BEGIN:VCALENDAR
VERSION:2.0
PRODID:-//Biosfärområde Storkriket - ECPv6.15.19//NONSGML v1.0//EN
CALSCALE:GREGORIAN
METHOD:PUBLISH
X-WR-CALNAME:Biosfärområde Storkriket
X-ORIGINAL-URL:https://storkriket.se
X-WR-CALDESC:Händelser för Biosfärområde Storkriket
REFRESH-INTERVAL;VALUE=DURATION:PT1H
X-Robots-Tag:noindex
X-PUBLISHED-TTL:PT1H
BEGIN:VTIMEZONE
TZID:UTC
BEGIN:STANDARD
TZOFFSETFROM:+0000
TZOFFSETTO:+0000
TZNAME:UTC
DTSTART:20250101T000000
END:STANDARD
END:VTIMEZONE
BEGIN:VEVENT
DTSTART;TZID=UTC:20260301T100000
DTEND;TZID=UTC:20260301T130000
DTSTAMP:20260422T102718
CREATED:20260216T095548Z
LAST-MODIFIED:20260225T103627Z
UID:17083-1772359200-1772370000@storkriket.se
SUMMARY:Fågelvandring i Fyledalen - FULLBOKAD
DESCRIPTION:Rikt på rovfåglar\, orkidéer\, geologiska fynd – och fladdermöss. 17 av landets 19 arter finns i den ungefärlig 10 kilometer långa isälvsdalen i gränslandet mellan Sjöbo\, Tomelilla och Ystad. Mest känd är kanske dalen för de kungsörnar som häckat här sedan 80-talet. Så här års spanar vi efter rovfåglar i dalens södra del och tar en kortare promenad utmed ena dalsidan för att lyssna efter spillkråkans vårläte. \nAnmäl dig via här \nDatum och tidpunkt\nSöndag 1 mars klockarn 10.00 till cirka 13:00. \nSamlingsplats\nParkeringsfickan nedanför Lyckås slott i Fyledalens södra del \nUtrustningsförslag\nOmrådet är lättgånget men stigen kan vara fuktig så kängor eller stövlar rekommenderas. Ta med handkikare\, fika om du vill och nåt att sitta på. Tubkikare är ett plus! Det finns inga sittplatser eller toalett i närheten. \nFörutsättningar\nVi har begränsat antalet platser till 12 personer och först till kvarn gäller. Turen är kostnadsfri. Barn från och med skolålder är varmt välkomna. Husdjur kan inte följa med. Turen ställs in vid dålig sikt eller på annat sätt otjänligt väder. \nÅterbud\nFår du förhinder är vi tacksamma om du avanmäler dig via länken i din anmälningsbekräftelse så snart som möjligt så att vi kan erbjuda platsen till någon annan. Och så slipper vi bli oroliga om du inte dyker upp! \nArrangör\nTuren arrangeras av Biosfärområde Storkriket och guide är Kaj Svensson. \nVägbeskrivning\nKoordinater: 55.530001\, 13.879522. \nKör väg 19 norrut från Ystad\, ta av till vänster mot Högestad strax söder om Benestad samhälle. Håll till höger vid första vägskälet (efter bron) och till höger vid andra vägskälet (på krönet av en backe i höjd med Lyckås slott). När skogen öppnar sig vid backens slut ligger parkeringsfickan på vänster sida. Resande norrifrån passerar Benestad samhälle och tar till höger ner i dalen mot Högestad. Med kollektivtrafik: buss från Ystad mot Brösarp/Kristianstad\, stig av på hållplats Övrabyvägen strax söder om Benestad samhälle. Beräkna 40–45 minuters promenad sista biten.
URL:https://storkriket.se/event/fagelvandring-i-fyledalen/
LOCATION:Fyledalen
CATEGORIES:Lanseringsåret 2026
ATTACH;FMTTYPE=image/jpeg:https://storkriket.se/wp-content/uploads/2026/01/glada1_header.jpg
ORGANIZER;CN="Biosf%C3%A4romr%C3%A5de Storkriket":MAILTO:info@storkriket.se
END:VEVENT
END:VCALENDAR