BEGIN:VCALENDAR
VERSION:2.0
PRODID:-//Biosfärområde Storkriket - ECPv6.15.19//NONSGML v1.0//EN
CALSCALE:GREGORIAN
METHOD:PUBLISH
X-ORIGINAL-URL:https://storkriket.se
X-WR-CALDESC:Händelser för Biosfärområde Storkriket
REFRESH-INTERVAL;VALUE=DURATION:PT1H
X-Robots-Tag:noindex
X-PUBLISHED-TTL:PT1H
BEGIN:VTIMEZONE
TZID:UTC
BEGIN:STANDARD
TZOFFSETFROM:+0000
TZOFFSETTO:+0000
TZNAME:UTC
DTSTART:20250101T000000
END:STANDARD
END:VTIMEZONE
BEGIN:VEVENT
DTSTART;TZID=UTC:20260328T120000
DTEND;TZID=UTC:20260530T160000
DTSTAMP:20260422T204655
CREATED:20260416T043541Z
LAST-MODIFIED:20260416T043541Z
UID:17421-1774699200-1780156800@storkriket.se
SUMMARY:Yvonne Larsson - Drömmen om Białowiezaskogen
DESCRIPTION:Utställning på Sjöbo Konsthall  \n  \n”De oljemålningar jag visar i konsthallen är nya\, från de senaste åren. De följer blicken från en varelse på väg\, på ständig vandring. Bort eller hem kan vara osagt. Längs vägen väljer även blicken att vandra. Upp mot natthimlen och ner bland sly och vattensjuk mark. Min följeslagare är blodets meridian som med autonom iver flätar samman klorofyll\, is\, ljus och tankar om aska och silver. Lyssnaren som lyssnar med alla sinnen… \n  \nUnder pandemiårens skogsvandringar kom jag i kontakt med musiken ”A Walk in the Woods” av tonsättaren Reine Jönsson. Långa vandringars lyssnande fick musiken att vävas in i mitt målande och bli en del av det. För första gången sammanstrålar nu målningar och musik i ett gemensamt rum. En glänta som är Sjöbo konsthall.” – Yvonne Larsson \n  \n28 mars – 30 maj\nYvonne Larsson\nSJÖBO KONSTHALL\nORDINARIE ÖPETTIDER: TIS–FRE 12–16\, LÖR 11–15
URL:https://storkriket.se/event/yvonne-larsson-drommen-om-bialowiezaskogen/
LOCATION:Sjöbo konsthall\, Gamla torg 10\, Sjöbo\, 27530
CATEGORIES:Konst och musik
ATTACH;FMTTYPE=image/jpeg:https://storkriket.se/wp-content/uploads/2026/04/Yvonne-Larsson-Nattens-ljus-hela.jpeg
ORGANIZER;CN="Sj%C3%B6bo Konsthall":MAILTO:kristina.buhrgard@sjobo.se
END:VEVENT
BEGIN:VEVENT
DTSTART;TZID=UTC:20260329T090000
DTEND;TZID=UTC:20260329T121500
DTSTAMP:20260422T204655
CREATED:20260216T100739Z
LAST-MODIFIED:20260216T100739Z
UID:17086-1774774800-1774786500@storkriket.se
SUMMARY:Fågelvandring i Snogeholm
DESCRIPTION:Snogeholms strövområde är ett mångskiftande landskap med sjöar\, sandiga hedar\, öppna fälader\, blöta alkärr\, skir lövskog och mörk granskog. Så här tidigt på våren fokuserar vi på sjöfåglar ute på Snogeholmssjön och sjungande tättingar såsom taltrast\, rödhake och trädkrypare inne i strandskogen. Med lite tur kretsar havsörnen över sjön. \nAnmäl dig här \nDatum och tidpunkt\nSöndag 29 mars klockan 09:00-10:30 eller klockan 10:45-12:15. \nSamlingsplats\nBesöksparkeringen vid Fiskarehus på östra sidan om Snogeholmsvägen/väg 982. \nUtrustningsförslag\nOmrådet är lättgånget men stigen kan vara fuktig så kängor eller stövlar rekommenderas. Ta med handkikare\, fika om du vill och nåt att sitta på. Toaletter\, rastplatser\, eldstäder och flera markerade leder finns i området. \nFörutsättningar\nVi har begränsat antal platser och först till kvarn gäller. Turen är kostnadsfri. Barn från och med skolålder är varmt välkomna. Husdjur kan inte följa med. Turen ställs in vid dålig sikt eller på annat sätt otjänligt väder. \nÅterbud\nFår du förhinder är vi tacksamma om du avanmäler dig via länken i din anmälningsbekräftelse så snart som möjligt så att vi kan erbjuda platsen till någon annan. Och så slipper vi bli oroliga om du inte dyker upp! \nArrangör\nTuren arrangeras av Biosfärområde Storkriket och guide är Kaj Svensson. \nVägbeskrivning\nKoordinater: 55.564278\, 13.715113. \nFrån E65 mellan Malmö och Ystad är det skyltat mot Snogeholm. För resande norrifrån är det skyltat från väg 13 mot Snogeholm. Med kollektivtrafik: buss 341 stannar vid Sövde by\, härifrån är det 1\,5 km längs Skåneleden in i området.
URL:https://storkriket.se/event/fagelvandring-i-snogeholm/
LOCATION:Snogeholm
ATTACH;FMTTYPE=image/jpeg:https://storkriket.se/wp-content/uploads/2026/01/glada1_header.jpg
ORGANIZER;CN="Biosf%C3%A4romr%C3%A5de Storkriket":MAILTO:info@storkriket.se
END:VEVENT
END:VCALENDAR