BEGIN:VCALENDAR
VERSION:2.0
PRODID:-//Biosfärområde Storkriket - ECPv6.15.19//NONSGML v1.0//EN
CALSCALE:GREGORIAN
METHOD:PUBLISH
X-ORIGINAL-URL:https://storkriket.se
X-WR-CALDESC:Händelser för Biosfärområde Storkriket
REFRESH-INTERVAL;VALUE=DURATION:PT1H
X-Robots-Tag:noindex
X-PUBLISHED-TTL:PT1H
BEGIN:VTIMEZONE
TZID:UTC
BEGIN:STANDARD
TZOFFSETFROM:+0000
TZOFFSETTO:+0000
TZNAME:UTC
DTSTART:20250101T000000
END:STANDARD
END:VTIMEZONE
BEGIN:VEVENT
DTSTART;TZID=UTC:20260325T180000
DTEND;TZID=UTC:20260325T193000
DTSTAMP:20260423T031305
CREATED:20260319T090834Z
LAST-MODIFIED:20260319T090834Z
UID:17298-1774461600-1774467000@storkriket.se
SUMMARY:Biosfären vi bor i - därför angår Storkriket oss alla
DESCRIPTION:Visste du att hela Lunds och Sjöbos kommun samt delar av Eslövs kommun ligger i ett av UNESCO utsett biosfärområde? \nStorkriket är mer än naturreservat\, våtmarker och en mångfald av arter. Det är också ett levande landskap av byar\, jordbruk\, företag\, ekosystemtjänster och människor\, som tillsammans formar framtidens hållbara samhälle. \nMen vad innebär det egentligen att leva i ett biosfärområde? I denna föreläsning lyfter verksamhetsledare Anna-Karin Poussart fram Storkrikets unika värden och berättar varför området valts ut som ett modellområde för hållbar utveckling. \nDärefter följer ett fördjupande samtal med Johanna Alkan Ohlsson\, forskare vid Lunds universitet\, där de utforskar biosfärområdets möjligheter och utmaningar.
URL:https://storkriket.se/event/biosfaren-vi-bor-i-darfor-angar-storkriket-oss-alla/
LOCATION:Lunds stadsbibliotek\, Atriumgården
ATTACH;FMTTYPE=image/jpeg:https://storkriket.se/wp-content/uploads/2026/01/XT308841.jpg
ORGANIZER;CN="Biosf%C3%A4romr%C3%A5de Storkriket":MAILTO:info@storkriket.se
END:VEVENT
END:VCALENDAR