BEGIN:VCALENDAR
VERSION:2.0
PRODID:-//Biosfärområde Storkriket - ECPv6.15.19//NONSGML v1.0//EN
CALSCALE:GREGORIAN
METHOD:PUBLISH
X-WR-CALNAME:Biosfärområde Storkriket
X-ORIGINAL-URL:https://storkriket.se
X-WR-CALDESC:Händelser för Biosfärområde Storkriket
REFRESH-INTERVAL;VALUE=DURATION:PT1H
X-Robots-Tag:noindex
X-PUBLISHED-TTL:PT1H
BEGIN:VTIMEZONE
TZID:UTC
BEGIN:STANDARD
TZOFFSETFROM:+0000
TZOFFSETTO:+0000
TZNAME:UTC
DTSTART:20250101T000000
END:STANDARD
END:VTIMEZONE
BEGIN:VEVENT
DTSTART;TZID=UTC:20260322T120000
DTEND;TZID=UTC:20260322T160000
DTSTAMP:20260423T074214
CREATED:20260225T134931Z
LAST-MODIFIED:20260302T153238Z
UID:17195-1774180800-1774195200@storkriket.se
SUMMARY:Experimentera med vatten - Internationella vattendagen
DESCRIPTION:Kom till Hasslemölla på internationella vattendagen och utforska vattnet tillsammans med oss! Hasslemölla gård\, 12:00-16:00\n\n\nVatten är blött\, gott och viktigt! Kom och testa att göra din egen läsk\, undersök vattens egenskaper och ta med dig ditt eget provrör hem. Om vädret tillåter får alla göra stora monstersåpbubblor och vi delar med oss av vårt recept. Experimentexpressen från Vattenhallen Science Center är på plats och studenter från Lunds universitet förklarar och visar naturvetenskap på ett finurligt och lättsamt sätt! Känner du dig som en vattenkännare? Testa dina smaklökar i vår smaktävling och se om du har bäst koll på det blöta och livsviktiga! Gå vår tipsrunda längst vandringslederna och testa dina vattenkunskaper.\n\n\nGrillarna är tända på gården\, ta med något gott att lägga på gallret\, så bjuder vi på marshmallows till efterrätt. \nVarmt välkommen – vi ses på Hasslemölla! \n\n\nEvenemanget arrangeras av Biosfärområde Storkriket\, och är en del av invigningsåret 2026. Läs mer på: Storkriket 2026 – det stora invigningsåret! – Biosfärområde Storkriket
URL:https://storkriket.se/event/internationella-vattendagen/
LOCATION:Hasslemölla\, Hasslemölla 631\, Veberöd\, 24796
CATEGORIES:Lanseringsåret 2026
ATTACH;FMTTYPE=image/jpeg:https://storkriket.se/wp-content/uploads/2026/02/Experimentera-med-vatten.png.jpg
ORGANIZER;CN="Biosf%C3%A4romr%C3%A5de Storkriket":MAILTO:info@storkriket.se
END:VEVENT
END:VCALENDAR