BEGIN:VCALENDAR
VERSION:2.0
PRODID:-//Biosfärområde Storkriket - ECPv6.15.19//NONSGML v1.0//EN
CALSCALE:GREGORIAN
METHOD:PUBLISH
X-WR-CALNAME:Biosfärområde Storkriket
X-ORIGINAL-URL:https://storkriket.se
X-WR-CALDESC:Händelser för Biosfärområde Storkriket
REFRESH-INTERVAL;VALUE=DURATION:PT1H
X-Robots-Tag:noindex
X-PUBLISHED-TTL:PT1H
BEGIN:VTIMEZONE
TZID:UTC
BEGIN:STANDARD
TZOFFSETFROM:+0000
TZOFFSETTO:+0000
TZNAME:UTC
DTSTART:20250101T000000
END:STANDARD
END:VTIMEZONE
BEGIN:VEVENT
DTSTART;TZID=UTC:20260124T090000
DTEND;TZID=UTC:20260321T160000
DTSTAMP:20260423T105240
CREATED:20260203T084448Z
LAST-MODIFIED:20260203T084448Z
UID:17066-1769245200-1774108800@storkriket.se
SUMMARY:Benjamin Hasselberg: Möten med de små - makrofotografi från Storkriket
DESCRIPTION:Se småkryp som du aldrig sett dem tidigare! \nBenjamin Hasselberg började fotografera våren 2025 och ställer nu ut för första gången på naturum Skrylle. I utställningen Möten med de små riktas blicken mot naturens minsta invånare – insekter\, spindlar och andra små varelser – fångade i extrema närbilder\, så kallad makrofotografi. \nHär möter du allt från det gulliga till det nästan overkliga. Ena bilden\, på ett bi täckt i morgondagg\, är utskriven i enormt format: 1\,7 x 1\,2 meter. Bland motiven finns både vanliga och mer sällsynta arter\, som exempelvis bokblombock och sexfläckig bastardsvärmare – båda rödlistade och exempel på några av de värdefulla arter som går att hitta i Storkriket. \nBenjamin arbetar även som naturvägledare på naturum och har tagit de allra flesta bilderna i närområdet. Utställningen visas till och med 21 mars.
URL:https://storkriket.se/event/moten-med-de-sma/
LOCATION:Naturum Skrylle\, Sven Håkanssons väg 14\, Lund\, 247 91
ATTACH;FMTTYPE=image/jpeg:https://storkriket.se/wp-content/uploads/2026/02/stor-scaled.jpg
ORGANIZER;CN="Naturum Skrylle%2C Lunds kommun":MAILTO:marie.sager@lund.se
END:VEVENT
END:VCALENDAR